BEGIN:VCALENDAR
VERSION:2.0
PRODID:spatie/icalendar-generator
DESCRIPTION:Events from LSPNW
X-WR-CALDESC:Events from LSPNW
REFRESH-INTERVAL;VALUE=DURATION:PT1440M
X-PUBLISHED-TTL:PT1440M
BEGIN:VTIMEZONE
TZID:Etc/GMT+0
BEGIN:STANDARD
DTSTART:20250708T190000Z
TZOFFSETFROM:+0000
TZOFFSETTO:+0000
END:STANDARD
END:VTIMEZONE
BEGIN:VTIMEZONE
TZID:UTC
BEGIN:STANDARD
DTSTART:20250727T133823Z
TZOFFSETFROM:+0000
TZOFFSETTO:+0000
END:STANDARD
END:VTIMEZONE
BEGIN:VEVENT
UID:6539-242
DTSTAMP:20260423T133823Z
SUMMARY:N - Easter Vigil
LOCATION:St James’ Nayland High Street Nayland Colchester  CO6 4JE
ORGANIZER;CN=Stephane:MAILTO:stephen.lowes@me.com
DTSTART;TZID=Etc/GMT+0:20260404T190000
DTEND;TZID=Etc/GMT+0:20260404T200000
X-ALT-DESC;FMTTYPE=TEXT/HTML:
CATEGORIES:Festivals,  Christmas &amp; Easter
URL;VALUE=URI:https://lspnw.org.uk/mc-events/n-easter-vigil-2/
METHOD:PUBLISH
END:VEVENT
END:VCALENDAR