BEGIN:VCALENDAR
VERSION:2.0
PRODID:spatie/icalendar-generator
DESCRIPTION:Events from LSPNW
X-WR-CALDESC:Events from LSPNW
REFRESH-INTERVAL;VALUE=DURATION:PT1440M
X-PUBLISHED-TTL:PT1440M
BEGIN:VTIMEZONE
TZID:Etc/GMT+0
BEGIN:STANDARD
DTSTART:20250706T190000Z
TZOFFSETFROM:+0000
TZOFFSETTO:+0000
END:STANDARD
END:VTIMEZONE
BEGIN:VTIMEZONE
TZID:UTC
BEGIN:STANDARD
DTSTART:20250725T153936Z
TZOFFSETFROM:+0000
TZOFFSETTO:+0000
END:STANDARD
END:VTIMEZONE
BEGIN:VEVENT
UID:6534-237
DTSTAMP:20260421T153936Z
SUMMARY:N - Institution of the Last Supper
LOCATION:St James’ Nayland High Street Nayland Colchester  CO6 4JE
ORGANIZER;CN=Stephane:MAILTO:stephen.lowes@me.com
DTSTART;TZID=Etc/GMT+0:20260402T190000
DTEND;TZID=Etc/GMT+0:20260402T200000
X-ALT-DESC;FMTTYPE=TEXT/HTML:
CATEGORIES:Holy Spirit,  Passion,  Saints,  Martyrs
URL;VALUE=URI:https://lspnw.org.uk/mc-events/n-institution-of-the-last-supp
 er-2/
METHOD:PUBLISH
END:VEVENT
END:VCALENDAR