BEGIN:VCALENDAR
VERSION:2.0
PRODID:spatie/icalendar-generator
DESCRIPTION:Events from LSPNW
X-WR-CALDESC:Events from LSPNW
REFRESH-INTERVAL;VALUE=DURATION:PT1440M
X-PUBLISHED-TTL:PT1440M
BEGIN:VTIMEZONE
TZID:Etc/GMT+0
BEGIN:STANDARD
DTSTART:20250618T110000Z
TZOFFSETFROM:+0000
TZOFFSETTO:+0000
END:STANDARD
END:VTIMEZONE
BEGIN:VTIMEZONE
TZID:UTC
BEGIN:STANDARD
DTSTART:20250724T180013Z
TZOFFSETFROM:+0000
TZOFFSETTO:+0000
END:STANDARD
END:VTIMEZONE
BEGIN:VEVENT
UID:6528-231
DTSTAMP:20260420T180013Z
SUMMARY:S - Mothering Sunday Service
LOCATION:St Mary’s Stoke-by-Nayland Church Street Stoke-by-Nayland Colche
 ster  CO6 4QU
ORGANIZER;CN=Stephane:MAILTO:stephen.lowes@me.com
DTSTART;TZID=Etc/GMT+0:20260315T110000
DTEND;TZID=Etc/GMT+0:20260315T120000
X-ALT-DESC;FMTTYPE=TEXT/HTML:
CATEGORIES:Advent,  Lent
URL;VALUE=URI:https://lspnw.org.uk/mc-events/s-mothering-sunday-service/
METHOD:PUBLISH
END:VEVENT
END:VCALENDAR