BEGIN:VCALENDAR
VERSION:2.0
PRODID:spatie/icalendar-generator
DESCRIPTION:Events from LSPNW
X-WR-CALDESC:Events from LSPNW
REFRESH-INTERVAL;VALUE=DURATION:PT1440M
X-PUBLISHED-TTL:PT1440M
BEGIN:VTIMEZONE
TZID:Etc/GMT+0
BEGIN:STANDARD
DTSTART:20250214T105500Z
TZOFFSETFROM:+0000
TZOFFSETTO:+0000
END:STANDARD
END:VTIMEZONE
BEGIN:VTIMEZONE
TZID:UTC
BEGIN:STANDARD
DTSTART:20250724T132019Z
TZOFFSETFROM:+0000
TZOFFSETTO:+0000
END:STANDARD
END:VTIMEZONE
BEGIN:VEVENT
UID:6506-202
DTSTAMP:20260420T132019Z
SUMMARY:Nayland - Remembrance Act
LOCATION:St James’ Nayland High Street Nayland Colchester  CO6 4JE
ORGANIZER;CN=Stephane:MAILTO:stephen.lowes@me.com
DTSTART;TZID=Etc/GMT+0:20251111T105500
DTEND;TZID=Etc/GMT+0:20251111T111500
X-ALT-DESC;FMTTYPE=TEXT/HTML:At the war memorial on High street
CATEGORIES:Holy Spirit,  Passion,  Saints,  Martyrs
URL;VALUE=URI:https://lspnw.org.uk/mc-events/nayland-remembrance-act-2/
METHOD:PUBLISH
END:VEVENT
END:VCALENDAR