BEGIN:VCALENDAR
VERSION:2.0
PRODID:spatie/icalendar-generator
DESCRIPTION:Events from LSPNW
X-WR-CALDESC:Events from LSPNW
REFRESH-INTERVAL;VALUE=DURATION:PT1440M
X-PUBLISHED-TTL:PT1440M
BEGIN:VTIMEZONE
TZID:Etc/GMT+0
BEGIN:STANDARD
DTSTART:20250806T080000Z
TZOFFSETFROM:+0000
TZOFFSETTO:+0000
END:STANDARD
END:VTIMEZONE
BEGIN:VTIMEZONE
TZID:UTC
BEGIN:STANDARD
DTSTART:20250725T020852Z
TZOFFSETFROM:+0000
TZOFFSETTO:+0000
END:STANDARD
END:VTIMEZONE
BEGIN:VEVENT
UID:4279-10
DTSTAMP:20260421T020852Z
SUMMARY:N – HC BCP
LOCATION:St James’ Nayland High Street Nayland Colchester  CO6 4JE
ORGANIZER;CN=addison:MAILTO:web@addisondesign.co.uk
RRULE:FREQ=MONTHLY;BYDAY=1SU;UNTIL=20321003T000000Z
DTSTART;TZID=Etc/GMT+0:20260503T080000
DTEND;TZID=Etc/GMT+0:20260503T090000
X-ALT-DESC;FMTTYPE=TEXT/HTML:<p>Holy Communion<br />\nBook of Common Prayer
 </p>\n
CATEGORIES:Sunday Services,  Advent,  Lent
URL;VALUE=URI:https://lspnw.org.uk/mc-events/n-hc-bcp/?mc_id=4279
METHOD:PUBLISH
END:VEVENT
END:VCALENDAR