BEGIN:VCALENDAR
VERSION:2.0
PRODID:spatie/icalendar-generator
DESCRIPTION:Events from LSPNW
X-WR-CALDESC:Events from LSPNW
REFRESH-INTERVAL;VALUE=DURATION:PT1440M
X-PUBLISHED-TTL:PT1440M
BEGIN:VTIMEZONE
TZID:Etc/GMT+0
BEGIN:STANDARD
DTSTART:20230610T090000Z
TZOFFSETFROM:+0000
TZOFFSETTO:+0000
END:STANDARD
END:VTIMEZONE
BEGIN:VTIMEZONE
TZID:UTC
BEGIN:STANDARD
DTSTART:20250723T223146Z
TZOFFSETFROM:+0000
TZOFFSETTO:+0000
END:STANDARD
END:VTIMEZONE
BEGIN:VEVENT
UID:964-4
DTSTAMP:20260419T223146Z
SUMMARY:NaylandHoly Communion CW
LOCATION:St James’ Nayland High Street Nayland Colchester  CO6 4JE
ORGANIZER;CN=addison:MAILTO:web@addisondesign.co.uk
RRULE:FREQ=WEEKLY;UNTIL=20321025T000000Z
DTSTART;TZID=Etc/GMT+0:20240306T090000
DTEND;TZID=Etc/GMT+0:20240306T100000
X-ALT-DESC;FMTTYPE=TEXT/HTML:
CATEGORIES:Weekday Services
URL;VALUE=URI:https://lspnw.org.uk/mc-events/naylandholy-communion-cw/?mc_i
 d=964
METHOD:PUBLISH
END:VEVENT
END:VCALENDAR