BEGIN:VCALENDAR
VERSION:2.0
PRODID:spatie/icalendar-generator
DESCRIPTION:Events from LSPNW
X-WR-CALDESC:Events from LSPNW
REFRESH-INTERVAL;VALUE=DURATION:PT1440M
X-PUBLISHED-TTL:PT1440M
BEGIN:VTIMEZONE
TZID:Etc/GMT+0
BEGIN:STANDARD
DTSTART:20250709T111500Z
TZOFFSETFROM:+0000
TZOFFSETTO:+0000
END:STANDARD
END:VTIMEZONE
BEGIN:VTIMEZONE
TZID:UTC
BEGIN:STANDARD
DTSTART:20250725T140237Z
TZOFFSETFROM:+0000
TZOFFSETTO:+0000
END:STANDARD
END:VTIMEZONE
BEGIN:VEVENT
UID:6544-247
DTSTAMP:20260421T140237Z
SUMMARY:S - Easter Communion
LOCATION:St Mary’s Stoke-by-Nayland Church Street Stoke-by-Nayland Colche
 ster  CO6 4QU
ORGANIZER;CN=Stephane:MAILTO:stephen.lowes@me.com
DTSTART;TZID=Etc/GMT+0:20260405T111500
DTEND;TZID=Etc/GMT+0:20260405T121500
X-ALT-DESC;FMTTYPE=TEXT/HTML:
CATEGORIES:Festivals,  Christmas &amp; Easter
URL;VALUE=URI:https://lspnw.org.uk/mc-events/s-easter-communion/
METHOD:PUBLISH
END:VEVENT
END:VCALENDAR