BEGIN:VCALENDAR
VERSION:2.0
PRODID:spatie/icalendar-generator
DESCRIPTION:Events from LSPNW
X-WR-CALDESC:Events from LSPNW
REFRESH-INTERVAL;VALUE=DURATION:PT1440M
X-PUBLISHED-TTL:PT1440M
BEGIN:VTIMEZONE
TZID:Etc/GMT+0
BEGIN:STANDARD
DTSTART:20250706T110000Z
TZOFFSETFROM:+0000
TZOFFSETTO:+0000
END:STANDARD
END:VTIMEZONE
BEGIN:VTIMEZONE
TZID:UTC
BEGIN:STANDARD
DTSTART:20250729T122529Z
TZOFFSETFROM:+0000
TZOFFSETTO:+0000
END:STANDARD
END:VTIMEZONE
BEGIN:VEVENT
UID:6535-238
DTSTAMP:20260425T122529Z
SUMMARY:Cathedral - Chrism Eucharist
LOCATION:Cathedral of St Edmundsbury   Bury St Edmund
ORGANIZER;CN=Stephane:MAILTO:stephen.lowes@me.com
DTSTART;TZID=Etc/GMT+0:20260402T110000
DTEND;TZID=Etc/GMT+0:20260402T123000
X-ALT-DESC;FMTTYPE=TEXT/HTML:
CATEGORIES:Holy Spirit,  Passion,  Saints,  Martyrs
URL;VALUE=URI:https://lspnw.org.uk/mc-events/cathedral-chrism-eucharist/
METHOD:PUBLISH
END:VEVENT
END:VCALENDAR