BEGIN:VCALENDAR
VERSION:2.0
PRODID:spatie/icalendar-generator
DESCRIPTION:Events from LSPNW
X-WR-CALDESC:Events from LSPNW
REFRESH-INTERVAL;VALUE=DURATION:PT1440M
X-PUBLISHED-TTL:PT1440M
BEGIN:VTIMEZONE
TZID:Etc/GMT+0
BEGIN:STANDARD
DTSTART:20230812T100000Z
TZOFFSETFROM:+0000
TZOFFSETTO:+0000
END:STANDARD
END:VTIMEZONE
BEGIN:VTIMEZONE
TZID:UTC
BEGIN:STANDARD
DTSTART:20250727T214454Z
TZOFFSETFROM:+0000
TZOFFSETTO:+0000
END:STANDARD
END:VTIMEZONE
BEGIN:VEVENT
UID:6373-82
DTSTAMP:20260423T214454Z
SUMMARY:Nayland - Coffee Morning
LOCATION:St James’ Nayland High Street Nayland Colchester  CO6 4JE
ORGANIZER;CN=Stephane:MAILTO:stephen.lowes@me.com
RRULE:FREQ=WEEKLY;UNTIL=20241127T000000Z
DTSTART;TZID=Etc/GMT+0:20240508T100000
DTEND;TZID=Etc/GMT+0:20240508T120000
X-ALT-DESC;FMTTYPE=TEXT/HTML:
CATEGORIES:Social Events
URL;VALUE=URI:https://lspnw.org.uk/mc-events/nayland-coffee-morning/?mc_id=
 6373
METHOD:PUBLISH
END:VEVENT
END:VCALENDAR