BEGIN:VCALENDAR
VERSION:2.0
PRODID:spatie/icalendar-generator
DESCRIPTION:Events from LSPNW
X-WR-CALDESC:Events from LSPNW
REFRESH-INTERVAL;VALUE=DURATION:PT1440M
X-PUBLISHED-TTL:PT1440M
BEGIN:VTIMEZONE
TZID:Etc/GMT+0
BEGIN:STANDARD
DTSTART:20230810T130000Z
TZOFFSETFROM:+0000
TZOFFSETTO:+0000
END:STANDARD
END:VTIMEZONE
BEGIN:VTIMEZONE
TZID:UTC
BEGIN:STANDARD
DTSTART:20250727T160844Z
TZOFFSETFROM:+0000
TZOFFSETTO:+0000
END:STANDARD
END:VTIMEZONE
BEGIN:VEVENT
UID:6349-62
DTSTAMP:20260423T160844Z
SUMMARY:Nayland Fête
LOCATION:Nayland Village Hall   Nayland
ORGANIZER;CN=Stephane:MAILTO:stephen.lowes@me.com
DTSTART;TZID=Etc/GMT+0:20240506T130000
DTEND;TZID=Etc/GMT+0:20240506T160000
X-ALT-DESC;FMTTYPE=TEXT/HTML:
CATEGORIES:Social Events
URL;VALUE=URI:https://lspnw.org.uk/mc-events/nayland-fete/
METHOD:PUBLISH
END:VEVENT
END:VCALENDAR