BEGIN:VCALENDAR
VERSION:2.0
PRODID:spatie/icalendar-generator
DESCRIPTION:Events from LSPNW
X-WR-CALDESC:Events from LSPNW
REFRESH-INTERVAL;VALUE=DURATION:PT1440M
X-PUBLISHED-TTL:PT1440M
BEGIN:VTIMEZONE
TZID:Etc/GMT+0
BEGIN:STANDARD
DTSTART:20230629T190000Z
TZOFFSETFROM:+0000
TZOFFSETTO:+0000
END:STANDARD
END:VTIMEZONE
BEGIN:VTIMEZONE
TZID:UTC
BEGIN:STANDARD
DTSTART:20250724T145005Z
TZOFFSETFROM:+0000
TZOFFSETTO:+0000
END:STANDARD
END:VTIMEZONE
BEGIN:VEVENT
UID:6335-49
DTSTAMP:20260420T145005Z
SUMMARY:Introduction to Easter
LOCATION:St Mary’s Polstead Polstead  Colchester  CO6 5BS
ORGANIZER;CN=Stephane:MAILTO:stephen.lowes@me.com
DTSTART;TZID=Etc/GMT+0:20240325T190000
DTEND;TZID=Etc/GMT+0:20240325T200000
X-ALT-DESC;FMTTYPE=TEXT/HTML:
CATEGORIES:Advent,  Lent
URL;VALUE=URI:https://lspnw.org.uk/mc-events/introduction-to-easter/
METHOD:PUBLISH
END:VEVENT
END:VCALENDAR