BEGIN:VCALENDAR
VERSION:2.0
PRODID:spatie/icalendar-generator
DESCRIPTION:Events from LSPNW
X-WR-CALDESC:Events from LSPNW
REFRESH-INTERVAL;VALUE=DURATION:PT1440M
X-PUBLISHED-TTL:PT1440M
BEGIN:VTIMEZONE
TZID:Etc/GMT+0
BEGIN:STANDARD
DTSTART:20230628T100000Z
TZOFFSETFROM:+0000
TZOFFSETTO:+0000
END:STANDARD
END:VTIMEZONE
BEGIN:VTIMEZONE
TZID:UTC
BEGIN:STANDARD
DTSTART:20250724T162929Z
TZOFFSETFROM:+0000
TZOFFSETTO:+0000
END:STANDARD
END:VTIMEZONE
BEGIN:VEVENT
UID:6333-47
DTSTAMP:20260420T162929Z
SUMMARY:Palm Sunday - HC
LOCATION:St James’ Nayland High Street Nayland Colchester  CO6 4JE
ORGANIZER;CN=Stephane:MAILTO:stephen.lowes@me.com
DTSTART;TZID=Etc/GMT+0:20240324T100000
DTEND;TZID=Etc/GMT+0:20240324T110000
X-ALT-DESC;FMTTYPE=TEXT/HTML:
CATEGORIES:Holy Spirit,  Passion,  Saints,  Martyrs
URL;VALUE=URI:https://lspnw.org.uk/mc-events/palm-sunday-hc/
METHOD:PUBLISH
END:VEVENT
END:VCALENDAR