BEGIN:VCALENDAR
VERSION:2.0
PRODID:spatie/icalendar-generator
DESCRIPTION:Events from LSPNW
X-WR-CALDESC:Events from LSPNW
REFRESH-INTERVAL;VALUE=DURATION:PT1440M
X-PUBLISHED-TTL:PT1440M
BEGIN:VTIMEZONE
TZID:Etc/GMT+0
BEGIN:STANDARD
DTSTART:20260902T100000Z
TZOFFSETFROM:+0000
TZOFFSETTO:+0000
END:STANDARD
END:VTIMEZONE
BEGIN:VTIMEZONE
TZID:UTC
BEGIN:STANDARD
DTSTART:20250726T145006Z
TZOFFSETFROM:+0000
TZOFFSETTO:+0000
END:STANDARD
END:VTIMEZONE
BEGIN:VEVENT
UID:6291-29
DTSTAMP:20260422T145006Z
SUMMARY:TBC – HC CW
LOCATION:St Mary’s Stoke-by-Nayland Church Street Stoke-by-Nayland Colche
 ster  CO6 4QU
ORGANIZER;CN=addison:MAILTO:web@addisondesign.co.uk
RRULE:FREQ=MONTHLY;BYDAY=5SU;UNTIL=20321031T000000Z
DTSTART;TZID=Etc/GMT+0:20270530T100000
DTEND;TZID=Etc/GMT+0:20270530T110000
X-ALT-DESC;FMTTYPE=TEXT/HTML:<p>Holy Communion<br />\nCommon Worship</p>\n
CATEGORIES:Sunday Services,  Holy Spirit,  Passion,  Saints,  Martyrs
URL;VALUE=URI:https://lspnw.org.uk/mc-events/stoke-benefice-service-hc-cw-r
 enewal-of-vows-for-couples/?mc_id=6291
METHOD:PUBLISH
END:VEVENT
END:VCALENDAR