BEGIN:VCALENDAR
VERSION:2.0
PRODID:spatie/icalendar-generator
DESCRIPTION:Events from LSPNW
X-WR-CALDESC:Events from LSPNW
REFRESH-INTERVAL;VALUE=DURATION:PT1440M
X-PUBLISHED-TTL:PT1440M
BEGIN:VTIMEZONE
TZID:Etc/GMT+0
BEGIN:STANDARD
DTSTART:20270602T111500Z
TZOFFSETFROM:+0000
TZOFFSETTO:+0000
END:STANDARD
END:VTIMEZONE
BEGIN:VTIMEZONE
TZID:UTC
BEGIN:STANDARD
DTSTART:20250724T214030Z
TZOFFSETFROM:+0000
TZOFFSETTO:+0000
END:STANDARD
END:VTIMEZONE
BEGIN:VEVENT
UID:6112-27
DTSTAMP:20260420T214030Z
SUMMARY:L –  HC CW
LOCATION:St Matthew’s Leavenheath Nayland Road Leavenheath Colchester  CO
 6 4PT
ORGANIZER;CN=addison:MAILTO:web@addisondesign.co.uk
RRULE:FREQ=MONTHLY;BYDAY=4SU;UNTIL=20321024T000000Z
DTSTART;TZID=Etc/GMT+0:20280227T111500
DTEND;TZID=Etc/GMT+0:20280227T121500
X-ALT-DESC;FMTTYPE=TEXT/HTML:<p>Holy Communion<br />\nCommon Worship</p>\n
CATEGORIES:Sunday Services
URL;VALUE=URI:https://lspnw.org.uk/mc-events/l-hc-cw/?mc_id=6112
METHOD:PUBLISH
END:VEVENT
END:VCALENDAR