BEGIN:VCALENDAR
VERSION:2.0
PRODID:spatie/icalendar-generator
DESCRIPTION:Events from LSPNW
X-WR-CALDESC:Events from LSPNW
REFRESH-INTERVAL;VALUE=DURATION:PT1440M
X-PUBLISHED-TTL:PT1440M
BEGIN:VTIMEZONE
TZID:Etc/GMT+0
BEGIN:STANDARD
DTSTART:20230920T183000Z
TZOFFSETFROM:+0000
TZOFFSETTO:+0000
END:STANDARD
END:VTIMEZONE
BEGIN:VTIMEZONE
TZID:UTC
BEGIN:STANDARD
DTSTART:20250723T163325Z
TZOFFSETFROM:+0000
TZOFFSETTO:+0000
END:STANDARD
END:VTIMEZONE
BEGIN:VEVENT
UID:5744-24
DTSTAMP:20260419T163325Z
SUMMARY:LVH – Evening Praise
LOCATION:Leavenheath Village Hall Wrights Way Leavenheath Colchester  CO6 4
 NW
ORGANIZER;CN=addison:MAILTO:web@addisondesign.co.uk
RRULE:FREQ=MONTHLY;BYDAY=3SU;UNTIL=20321017T000000Z
DTSTART;TZID=Etc/GMT+0:20240616T183000
DTEND;TZID=Etc/GMT+0:20240616T193000
X-ALT-DESC;FMTTYPE=TEXT/HTML:<p>Evening Praise</p>\n
CATEGORIES:Sunday Services
URL;VALUE=URI:https://lspnw.org.uk/mc-events/lvh-evening-praise/?mc_id=5744
METHOD:PUBLISH
END:VEVENT
END:VCALENDAR