BEGIN:VCALENDAR
VERSION:2.0
PRODID:spatie/icalendar-generator
DESCRIPTION:Events from LSPNW
X-WR-CALDESC:Events from LSPNW
REFRESH-INTERVAL;VALUE=DURATION:PT1440M
X-PUBLISHED-TTL:PT1440M
BEGIN:VTIMEZONE
TZID:Etc/GMT+0
BEGIN:STANDARD
DTSTART:20250618T100000Z
TZOFFSETFROM:+0000
TZOFFSETTO:+0000
END:STANDARD
END:VTIMEZONE
BEGIN:VTIMEZONE
TZID:UTC
BEGIN:STANDARD
DTSTART:20250724T145205Z
TZOFFSETFROM:+0000
TZOFFSETTO:+0000
END:STANDARD
END:VTIMEZONE
BEGIN:VEVENT
UID:5657-230
DTSTAMP:20260420T145205Z
SUMMARY:N – Family Service - Mothering Sunday
LOCATION:St James’ Nayland High Street Nayland Colchester  CO6 4JE
ORGANIZER;CN=addison:MAILTO:web@addisondesign.co.uk
DTSTART;TZID=Etc/GMT+0:20260315T100000
DTEND;TZID=Etc/GMT+0:20260315T110000
X-ALT-DESC;FMTTYPE=TEXT/HTML:<p>Family Service</p>\n
CATEGORIES:Advent,  Lent
URL;VALUE=URI:https://lspnw.org.uk/mc-events/n-family-service-mothering-sun
 day/
METHOD:PUBLISH
END:VEVENT
END:VCALENDAR