BEGIN:VCALENDAR
VERSION:2.0
PRODID:spatie/icalendar-generator
DESCRIPTION:Events from LSPNW
X-WR-CALDESC:Events from LSPNW
REFRESH-INTERVAL;VALUE=DURATION:PT1440M
X-PUBLISHED-TTL:PT1440M
BEGIN:VTIMEZONE
TZID:Etc/GMT+0
BEGIN:STANDARD
DTSTART:20230118T100000Z
TZOFFSETFROM:+0000
TZOFFSETTO:+0000
END:STANDARD
END:VTIMEZONE
BEGIN:VTIMEZONE
TZID:UTC
BEGIN:STANDARD
DTSTART:20250723T210410Z
TZOFFSETFROM:+0000
TZOFFSETTO:+0000
END:STANDARD
END:VTIMEZONE
BEGIN:VEVENT
UID:5628-23
DTSTAMP:20260419T210410Z
SUMMARY:N – Family Service
LOCATION:St James’ Nayland High Street Nayland Colchester  CO6 4JE
ORGANIZER;CN=addison:MAILTO:web@addisondesign.co.uk
RRULE:FREQ=MONTHLY;BYDAY=3SU;UNTIL=20321017T000000Z
DTSTART;TZID=Etc/GMT+0:20231015T100000
DTEND;TZID=Etc/GMT+0:20231015T110000
X-ALT-DESC;FMTTYPE=TEXT/HTML:<p>Family Service</p>\n
CATEGORIES:Sunday Services,  Advent,  Lent
URL;VALUE=URI:https://lspnw.org.uk/mc-events/n-family-service-harvest-festi
 val/?mc_id=5628
METHOD:PUBLISH
END:VEVENT
END:VCALENDAR