BEGIN:VCALENDAR
VERSION:2.0
PRODID:spatie/icalendar-generator
DESCRIPTION:Events from LSPNW
X-WR-CALDESC:Events from LSPNW
REFRESH-INTERVAL;VALUE=DURATION:PT1440M
X-PUBLISHED-TTL:PT1440M
BEGIN:VTIMEZONE
TZID:Etc/GMT+0
BEGIN:STANDARD
DTSTART:20250618T093000Z
TZOFFSETFROM:+0000
TZOFFSETTO:+0000
END:STANDARD
END:VTIMEZONE
BEGIN:VTIMEZONE
TZID:UTC
BEGIN:STANDARD
DTSTART:20250724T162823Z
TZOFFSETFROM:+0000
TZOFFSETTO:+0000
END:STANDARD
END:VTIMEZONE
BEGIN:VEVENT
UID:5453-228
DTSTAMP:20260420T162823Z
SUMMARY:P – MP CW - Mothering Sunday
LOCATION:St Mary’s Polstead Polstead  Colchester  CO6 5BS
ORGANIZER;CN=addison:MAILTO:web@addisondesign.co.uk
DTSTART;TZID=Etc/GMT+0:20260315T093000
DTEND;TZID=Etc/GMT+0:20260315T103000
X-ALT-DESC;FMTTYPE=TEXT/HTML:<p>Morning Prayer<br />\nCommon Worship</p>\n
CATEGORIES:Advent,  Lent
URL;VALUE=URI:https://lspnw.org.uk/mc-events/p-mp-cw-mothering-sunday/
METHOD:PUBLISH
END:VEVENT
END:VCALENDAR