BEGIN:VCALENDAR
VERSION:2.0
PRODID:spatie/icalendar-generator
DESCRIPTION:Events from LSPNW
X-WR-CALDESC:Events from LSPNW
REFRESH-INTERVAL;VALUE=DURATION:PT1440M
X-PUBLISHED-TTL:PT1440M
BEGIN:VTIMEZONE
TZID:Etc/GMT+0
BEGIN:STANDARD
DTSTART:20230920T080000Z
TZOFFSETFROM:+0000
TZOFFSETTO:+0000
END:STANDARD
END:VTIMEZONE
BEGIN:VTIMEZONE
TZID:UTC
BEGIN:STANDARD
DTSTART:20250723T213158Z
TZOFFSETFROM:+0000
TZOFFSETTO:+0000
END:STANDARD
END:VTIMEZONE
BEGIN:VEVENT
UID:5324-20
DTSTAMP:20260419T213158Z
SUMMARY:S – HC BCP
LOCATION:St Mary’s Stoke-by-Nayland Church Street Stoke-by-Nayland Colche
 ster  CO6 4QU
ORGANIZER;CN=addison:MAILTO:web@addisondesign.co.uk
RRULE:FREQ=MONTHLY;BYDAY=3SU;UNTIL=20321017T000000Z
DTSTART;TZID=Etc/GMT+0:20240616T080000
DTEND;TZID=Etc/GMT+0:20240616T090000
X-ALT-DESC;FMTTYPE=TEXT/HTML:<p>Holy Communion<br />\nBook of Common Prayer
 </p>\n
CATEGORIES:Sunday Services
URL;VALUE=URI:https://lspnw.org.uk/mc-events/s-hc-bcp/?mc_id=5324
METHOD:PUBLISH
END:VEVENT
END:VCALENDAR