BEGIN:VCALENDAR
VERSION:2.0
PRODID:spatie/icalendar-generator
DESCRIPTION:Events from LSPNW
X-WR-CALDESC:Events from LSPNW
REFRESH-INTERVAL;VALUE=DURATION:PT1440M
X-PUBLISHED-TTL:PT1440M
BEGIN:VTIMEZONE
TZID:Etc/GMT+0
BEGIN:STANDARD
DTSTART:20230614T093000Z
TZOFFSETFROM:+0000
TZOFFSETTO:+0000
END:STANDARD
END:VTIMEZONE
BEGIN:VTIMEZONE
TZID:UTC
BEGIN:STANDARD
DTSTART:20250724T050723Z
TZOFFSETFROM:+0000
TZOFFSETTO:+0000
END:STANDARD
END:VTIMEZONE
BEGIN:VEVENT
UID:4889-16
DTSTAMP:20260420T050723Z
SUMMARY:L – MP CW
LOCATION:St Matthew’s Leavenheath Nayland Road Leavenheath Colchester  CO
 6 4PT
ORGANIZER;CN=addison:MAILTO:web@addisondesign.co.uk
RRULE:FREQ=MONTHLY;BYDAY=2SU;UNTIL=20321009T000000Z
DTSTART;TZID=Etc/GMT+0:20240310T093000
DTEND;TZID=Etc/GMT+0:20240310T103000
X-ALT-DESC;FMTTYPE=TEXT/HTML:<p>Morning Prayer<br />\nCommon Worship</p>\n
CATEGORIES:Sunday Services
URL;VALUE=URI:https://lspnw.org.uk/mc-events/l-mp-cw/?mc_id=4889
METHOD:PUBLISH
END:VEVENT
END:VCALENDAR