BEGIN:VCALENDAR
VERSION:2.0
PRODID:spatie/icalendar-generator
DESCRIPTION:Events from LSPNW
X-WR-CALDESC:Events from LSPNW
REFRESH-INTERVAL;VALUE=DURATION:PT1440M
X-PUBLISHED-TTL:PT1440M
BEGIN:VTIMEZONE
TZID:Etc/GMT+0
BEGIN:STANDARD
DTSTART:20230607T183000Z
TZOFFSETFROM:+0000
TZOFFSETTO:+0000
END:STANDARD
END:VTIMEZONE
BEGIN:VTIMEZONE
TZID:UTC
BEGIN:STANDARD
DTSTART:20250723T210731Z
TZOFFSETFROM:+0000
TZOFFSETTO:+0000
END:STANDARD
END:VTIMEZONE
BEGIN:VEVENT
UID:4793-15
DTSTAMP:20260419T210731Z
SUMMARY:S – EP BCP
LOCATION:St Mary’s Stoke-by-Nayland Church Street Stoke-by-Nayland Colche
 ster  CO6 4QU
ORGANIZER;CN=addison:MAILTO:web@addisondesign.co.uk
RRULE:FREQ=MONTHLY;BYDAY=1SU;UNTIL=20311004T000000Z
DTSTART;TZID=Etc/GMT+0:20240303T183000
DTEND;TZID=Etc/GMT+0:20240303T193000
X-ALT-DESC;FMTTYPE=TEXT/HTML:<p>Evening Payer<br />\nBook of Common Prayer</p>\n
CATEGORIES:Sunday Services
URL;VALUE=URI:https://lspnw.org.uk/mc-events/s-ep-bcp/?mc_id=4793
METHOD:PUBLISH
END:VEVENT
END:VCALENDAR