BEGIN:VCALENDAR
VERSION:2.0
PRODID:spatie/icalendar-generator
DESCRIPTION:Events from LSPNW
X-WR-CALDESC:Events from LSPNW
REFRESH-INTERVAL;VALUE=DURATION:PT1440M
X-PUBLISHED-TTL:PT1440M
BEGIN:VTIMEZONE
TZID:Etc/GMT+0
BEGIN:STANDARD
DTSTART:20230607T111500Z
TZOFFSETFROM:+0000
TZOFFSETTO:+0000
END:STANDARD
END:VTIMEZONE
BEGIN:VTIMEZONE
TZID:UTC
BEGIN:STANDARD
DTSTART:20250723T223629Z
TZOFFSETFROM:+0000
TZOFFSETTO:+0000
END:STANDARD
END:VTIMEZONE
BEGIN:VEVENT
UID:4685-14
DTSTAMP:20260419T223629Z
SUMMARY:P – HC CW
LOCATION:St Mary’s Polstead Polstead  Colchester  CO6 5BS
ORGANIZER;CN=addison:MAILTO:web@addisondesign.co.uk
RRULE:FREQ=MONTHLY;BYDAY=1SU;UNTIL=20321003T000000Z
DTSTART;TZID=Etc/GMT+0:20240303T111500
DTEND;TZID=Etc/GMT+0:20240303T121500
X-ALT-DESC;FMTTYPE=TEXT/HTML:<p>Holy Communion<br />\nCommon Worship</p>\n
CATEGORIES:Sunday Services,  Festivals,  Christmas &amp; Easter
URL;VALUE=URI:https://lspnw.org.uk/mc-events/p-hc-cw/?mc_id=4685
METHOD:PUBLISH
END:VEVENT
END:VCALENDAR