BEGIN:VCALENDAR
VERSION:2.0
PRODID:spatie/icalendar-generator
DESCRIPTION:Events from LSPNW
X-WR-CALDESC:Events from LSPNW
REFRESH-INTERVAL;VALUE=DURATION:PT1440M
X-PUBLISHED-TTL:PT1440M
BEGIN:VTIMEZONE
TZID:Etc/GMT+0
BEGIN:STANDARD
DTSTART:20270512T093000Z
TZOFFSETFROM:+0000
TZOFFSETTO:+0000
END:STANDARD
END:VTIMEZONE
BEGIN:VTIMEZONE
TZID:UTC
BEGIN:STANDARD
DTSTART:20250724T230811Z
TZOFFSETFROM:+0000
TZOFFSETTO:+0000
END:STANDARD
END:VTIMEZONE
BEGIN:VEVENT
UID:4516-11
DTSTAMP:20260420T230811Z
SUMMARY:LVH –1st Sunday Praise
LOCATION:Leavenheath Village Hall Wrights Way Leavenheath Colchester  CO6 4
 NW
ORGANIZER;CN=addison:MAILTO:web@addisondesign.co.uk
RRULE:FREQ=MONTHLY;BYDAY=1SU;UNTIL=20321003T000000Z
DTSTART;TZID=Etc/GMT+0:20280206T093000
DTEND;TZID=Etc/GMT+0:20280206T103000
X-ALT-DESC;FMTTYPE=TEXT/HTML:<p>1st Sunday Praise</p>\n
CATEGORIES:Sunday Services
URL;VALUE=URI:https://lspnw.org.uk/mc-events/lvh-1st-sunday-praise/?mc_id=4
 516
METHOD:PUBLISH
END:VEVENT
END:VCALENDAR