BEGIN:VCALENDAR
VERSION:2.0
PRODID:spatie/icalendar-generator
DESCRIPTION:Events from LSPNW
X-WR-CALDESC:Events from LSPNW
REFRESH-INTERVAL;VALUE=DURATION:PT1440M
X-PUBLISHED-TTL:PT1440M
BEGIN:VTIMEZONE
TZID:Etc/GMT+0
BEGIN:STANDARD
DTSTART:20230613T180000Z
TZOFFSETFROM:+0000
TZOFFSETTO:+0000
END:STANDARD
END:VTIMEZONE
BEGIN:VTIMEZONE
TZID:UTC
BEGIN:STANDARD
DTSTART:20250724T032251Z
TZOFFSETFROM:+0000
TZOFFSETTO:+0000
END:STANDARD
END:VTIMEZONE
BEGIN:VEVENT
UID:3796-9
DTSTAMP:20260420T032251Z
SUMMARY:PolsteadCompline
LOCATION:St Mary’s Polstead Polstead  Colchester  CO6 5BS
ORGANIZER;CN=addison:MAILTO:web@addisondesign.co.uk
RRULE:FREQ=WEEKLY;UNTIL=20321031T000000Z
DTSTART;TZID=Etc/GMT+0:20240309T180000
DTEND;TZID=Etc/GMT+0:20240309T190000
X-ALT-DESC;FMTTYPE=TEXT/HTML:
CATEGORIES:Weekday Services
URL;VALUE=URI:https://lspnw.org.uk/mc-events/polsteadcompline/?mc_id=3796
METHOD:PUBLISH
END:VEVENT
END:VCALENDAR