BEGIN:VCALENDAR
VERSION:2.0
PRODID:spatie/icalendar-generator
DESCRIPTION:Events from LSPNW
X-WR-CALDESC:Events from LSPNW
REFRESH-INTERVAL;VALUE=DURATION:PT1440M
X-PUBLISHED-TTL:PT1440M
BEGIN:VTIMEZONE
TZID:Etc/GMT+0
BEGIN:STANDARD
DTSTART:20230612T183000Z
TZOFFSETFROM:+0000
TZOFFSETTO:+0000
END:STANDARD
END:VTIMEZONE
BEGIN:VTIMEZONE
TZID:UTC
BEGIN:STANDARD
DTSTART:20250724T014017Z
TZOFFSETFROM:+0000
TZOFFSETTO:+0000
END:STANDARD
END:VTIMEZONE
BEGIN:VEVENT
UID:3324-8
DTSTAMP:20260420T014017Z
SUMMARY:Stoke-by-NaylandEvening Prayer BCP
LOCATION:St Mary’s Stoke-by-Nayland Church Street Stoke-by-Nayland Colche
 ster  CO6 4QU
ORGANIZER;CN=addison:MAILTO:web@addisondesign.co.uk
RRULE:FREQ=WEEKLY;UNTIL=20321025T000000Z
DTSTART;TZID=Etc/GMT+0:20240308T183000
DTEND;TZID=Etc/GMT+0:20240308T193000
X-ALT-DESC;FMTTYPE=TEXT/HTML:
CATEGORIES:Weekday Services
URL;VALUE=URI:https://lspnw.org.uk/mc-events/stoke-by-naylandevening-prayer
 -bcp/?mc_id=3324
METHOD:PUBLISH
END:VEVENT
END:VCALENDAR