BEGIN:VCALENDAR
VERSION:2.0
PRODID:spatie/icalendar-generator
DESCRIPTION:Events from LSPNW
X-WR-CALDESC:Events from LSPNW
REFRESH-INTERVAL;VALUE=DURATION:PT1440M
X-PUBLISHED-TTL:PT1440M
BEGIN:VTIMEZONE
TZID:Etc/GMT+0
BEGIN:STANDARD
DTSTART:20270718T083000Z
TZOFFSETFROM:+0000
TZOFFSETTO:+0000
END:STANDARD
END:VTIMEZONE
BEGIN:VTIMEZONE
TZID:UTC
BEGIN:STANDARD
DTSTART:20250729T103300Z
TZOFFSETFROM:+0000
TZOFFSETTO:+0000
END:STANDARD
END:VTIMEZONE
BEGIN:VEVENT
UID:3066-7
DTSTAMP:20260425T103300Z
SUMMARY:WissingtonMorning Prayer CW
LOCATION:St Mary-the-Virgin’s Wissington Wissington (Wiston)  Colchester 
  CO6 4LX
ORGANIZER;CN=addison:MAILTO:web@addisondesign.co.uk
RRULE:FREQ=WEEKLY;UNTIL=20321025T000000Z
DTSTART;TZID=Etc/GMT+0:20280413T083000
DTEND;TZID=Etc/GMT+0:20280413T093000
X-ALT-DESC;FMTTYPE=TEXT/HTML:
CATEGORIES:Weekday Services
URL;VALUE=URI:https://lspnw.org.uk/mc-events/wissingtonmorning-prayer-cw/?m
 c_id=3066
METHOD:PUBLISH
END:VEVENT
END:VCALENDAR