BEGIN:VCALENDAR
VERSION:2.0
PRODID:spatie/icalendar-generator
DESCRIPTION:Events from LSPNW
X-WR-CALDESC:Events from LSPNW
REFRESH-INTERVAL;VALUE=DURATION:PT1440M
X-PUBLISHED-TTL:PT1440M
BEGIN:VTIMEZONE
TZID:Etc/GMT+0
BEGIN:STANDARD
DTSTART:20270515T090000Z
TZOFFSETFROM:+0000
TZOFFSETTO:+0000
END:STANDARD
END:VTIMEZONE
BEGIN:VTIMEZONE
TZID:UTC
BEGIN:STANDARD
DTSTART:20250724T213209Z
TZOFFSETFROM:+0000
TZOFFSETTO:+0000
END:STANDARD
END:VTIMEZONE
BEGIN:VEVENT
UID:1169-4
DTSTAMP:20260420T213209Z
SUMMARY:NaylandHoly Communion CW
LOCATION:St James’ Nayland High Street Nayland Colchester  CO6 4JE
ORGANIZER;CN=addison:MAILTO:web@addisondesign.co.uk
RRULE:FREQ=WEEKLY;UNTIL=20321025T000000Z
DTSTART;TZID=Etc/GMT+0:20280209T090000
DTEND;TZID=Etc/GMT+0:20280209T100000
X-ALT-DESC;FMTTYPE=TEXT/HTML:
CATEGORIES:Weekday Services
URL;VALUE=URI:https://lspnw.org.uk/mc-events/naylandholy-communion-cw/?mc_i
 d=1169
METHOD:PUBLISH
END:VEVENT
END:VCALENDAR